BEGIN:VCALENDAR
VERSION:2.0
PRODID:-//demosphere.net//NONSGML kigkonsult.se iCalcreator 2.22.1//
METHOD:REQUEST
X-WR-TIMEZONE:Europe/Athens
BEGIN:VEVENT
UID:https://thessaloniki.kinimatorama.net/event/115120
DTSTAMP:20200124T070000Z
DESCRIPTION:περισσότερες πληροφορίες: https://thessaloniki.kinimatorama.net
 /event/115120 
DTSTART:20200124T070000Z
DTEND:20200124T080000Z
GEO:+37.995376;+23.743086
LOCATION:Αθήνα\, \nΔικαστήρια Ευελπίδων
SUMMARY:[Αθήνα] Κάλεσμα αλληλεγγύης στους συλληφθέντες από Κουκάκι
URL:https://thessaloniki.kinimatorama.net/event/115120
END:VEVENT
END:VCALENDAR
