BEGIN:VCALENDAR
VERSION:2.0
PRODID:-//demosphere.net//NONSGML kigkonsult.se iCalcreator 2.22.1//
METHOD:REQUEST
X-WR-TIMEZONE:Europe/Athens
BEGIN:VEVENT
UID:https://thessaloniki.kinimatorama.net/event/11513
DTSTAMP:20110702T180000Z
DESCRIPTION:περισσότερες πληροφορίες: https://thessaloniki.kinimatorama.net
 /event/11513 
DTSTART:20110702T180000Z
DTEND:20110702T190000Z
GEO:+38.00095;+23.737762
LOCATION:Αθήνα\, \nΔημοτική Αγορά Κυψέλης \nΦωκίωνος Νέγρη 42
SUMMARY:Πάρτυ οικ. ενίσχυσης για τη δημιουργία Σωματείου βάσης ανέργων
URL:https://thessaloniki.kinimatorama.net/event/11513
END:VEVENT
END:VCALENDAR
