BEGIN:VCALENDAR
VERSION:2.0
PRODID:-//demosphere.net//NONSGML kigkonsult.se iCalcreator 2.22.1//
METHOD:REQUEST
X-WR-TIMEZONE:Europe/Athens
BEGIN:VEVENT
UID:https://thessaloniki.kinimatorama.net/event/115398
DTSTAMP:20200211T070000Z
DESCRIPTION:περισσότερες πληροφορίες: https://thessaloniki.kinimatorama.net
 /event/115398 
DTSTART:20200211T070000Z
DTEND:20200211T080000Z
GEO:+40.639326;+22.932823
LOCATION:Θεσσαλονίκη\, \nΔικαστήρια Θεσσαλονίκης
SUMMARY:Αλληλεγγύη στην Α.Σ. και σε κάθε θύμα σεξιστικής βίας
URL:https://thessaloniki.kinimatorama.net/event/115398
END:VEVENT
END:VCALENDAR
