BEGIN:VCALENDAR
VERSION:2.0
PRODID:-//demosphere.net//NONSGML kigkonsult.se iCalcreator 2.22.1//
METHOD:REQUEST
X-WR-TIMEZONE:Europe/Athens
BEGIN:VEVENT
UID:https://thessaloniki.kinimatorama.net/event/115607
DTSTAMP:20200211T161500Z
DESCRIPTION:περισσότερες πληροφορίες: https://thessaloniki.kinimatorama.net
 /event/115607 
DTSTART:20200211T161500Z
DTEND:20200211T171500Z
GEO:+37.979198;+23.723922
LOCATION:Αθήνα\, \nΕλεύθερο Αυτοδιαχειριζόμενο Θέατρο Εμπρός \nΡήγα Παλαμήδ
 ου 2\, Ψυρρή \n(πλησίον σταθμού ΜΟΝΑΣΤΗΡΑΚΙ)
SUMMARY:Μάθημα Tai-Chi
URL:https://thessaloniki.kinimatorama.net/event/115607
END:VEVENT
END:VCALENDAR
