BEGIN:VCALENDAR
VERSION:2.0
PRODID:-//demosphere.net//NONSGML kigkonsult.se iCalcreator 2.22.1//
METHOD:REQUEST
X-WR-TIMEZONE:Europe/Athens
BEGIN:VEVENT
UID:https://thessaloniki.kinimatorama.net/event/116573
DTSTAMP:20200311T070000Z
DESCRIPTION:περισσότερες πληροφορίες: https://thessaloniki.kinimatorama.net
 /event/116573 
DTSTART:20200311T070000Z
DTEND:20200311T080000Z
GEO:+37.995376;+23.743086
LOCATION:Αθήνα\, \nΔικαστήρια Ευελπίδων
SUMMARY:Συγκέντρωση αλληλεγγύης για την υπόθεση της Ειρήνης Εμινίδου και το
 υ Ζήση Σούρλα
URL:https://thessaloniki.kinimatorama.net/event/116573
END:VEVENT
END:VCALENDAR
