BEGIN:VCALENDAR
VERSION:2.0
PRODID:-//demosphere.net//NONSGML kigkonsult.se iCalcreator 2.22.1//
METHOD:REQUEST
X-WR-TIMEZONE:Europe/Athens
BEGIN:VEVENT
UID:https://thessaloniki.kinimatorama.net/event/116800
DTSTAMP:20130320T180000Z
DESCRIPTION:περισσότερες πληροφορίες: https://thessaloniki.kinimatorama.net
 /event/116800 
DTSTART:20130320T180000Z
DTEND:20130320T190000Z
GEO:+40.638358;+22.959409
LOCATION:Θεσσαλονίκη\, \nΚήποι του πασά \nΆγιος Παύλος
SUMMARY:DIY Rap Live
URL:https://thessaloniki.kinimatorama.net/event/116800
END:VEVENT
END:VCALENDAR
