BEGIN:VCALENDAR
VERSION:2.0
PRODID:-//demosphere.net//NONSGML kigkonsult.se iCalcreator 2.22.1//
METHOD:REQUEST
X-WR-TIMEZONE:Europe/Athens
BEGIN:VEVENT
UID:https://thessaloniki.kinimatorama.net/event/117044
DTSTAMP:20200310T100000Z
DESCRIPTION:περισσότερες πληροφορίες: https://thessaloniki.kinimatorama.net
 /event/117044 
DTSTART:20200310T100000Z
DTEND:20200310T110000Z
GEO:+37.969017;+23.780422
LOCATION:Ζωγράφου\, \nΑναρχικό Στέκι Φιλοσοφικής \nαίθουσα 819\, 8ος όροφος
  \nΠανεπιστημιούπολη Ζωγράφου
SUMMARY:Τριήμερο ενάντια στην έμφυλη καταπίεση και την πατριαρχία
URL:https://thessaloniki.kinimatorama.net/event/117044
END:VEVENT
END:VCALENDAR
