BEGIN:VCALENDAR
VERSION:2.0
PRODID:-//demosphere.net//NONSGML kigkonsult.se iCalcreator 2.22.1//
METHOD:REQUEST
X-WR-TIMEZONE:Europe/Athens
BEGIN:VEVENT
UID:https://thessaloniki.kinimatorama.net/event/117050
DTSTAMP:20200312T130000Z
DESCRIPTION:περισσότερες πληροφορίες: https://thessaloniki.kinimatorama.net
 /event/117050 
DTSTART:20200312T130000Z
DTEND:20200312T140000Z
GEO:+37.969017;+23.780422
LOCATION:Ζωγράφου\, \nΑναρχικό Στέκι Φιλοσοφικής \nαίθουσα 819\, 8ος όροφος
  \nΠανεπιστημιούπολη Ζωγράφου
SUMMARY:(αναβάλλεται) Τριήμερο ενάντια στην έμφυλη καταπίεση και την πατρια
 ρχία
URL:https://thessaloniki.kinimatorama.net/event/117050
END:VEVENT
END:VCALENDAR
