BEGIN:VCALENDAR
VERSION:2.0
PRODID:-//demosphere.net//NONSGML kigkonsult.se iCalcreator 2.22.1//
METHOD:REQUEST
X-WR-TIMEZONE:Europe/Athens
BEGIN:VEVENT
UID:https://thessaloniki.kinimatorama.net/event/117098
DTSTAMP:20200313T190900Z
DESCRIPTION:περισσότερες πληροφορίες: https://thessaloniki.kinimatorama.net
 /event/117098 
DTSTART:20200313T190900Z
DTEND:20200313T200900Z
GEO:+40.633903;+22.95648
LOCATION:Θεσσαλονίκη\, \nΣχολή Θετικών Επιστημών (ΣΘΕ) ΑΠΘ
SUMMARY:(αναβάλλεται) Η ΦΑΚΟΦ προβάλλει το Zodiac
URL:https://thessaloniki.kinimatorama.net/event/117098
END:VEVENT
END:VCALENDAR
