BEGIN:VCALENDAR
VERSION:2.0
PRODID:-//demosphere.net//NONSGML kigkonsult.se iCalcreator 2.22.1//
METHOD:REQUEST
X-WR-TIMEZONE:Europe/Athens
BEGIN:VEVENT
UID:https://thessaloniki.kinimatorama.net/event/117252
DTSTAMP:20200312T190000Z
DESCRIPTION:περισσότερες πληροφορίες: https://thessaloniki.kinimatorama.net
 /event/117252 
DTSTART:20200312T190000Z
DTEND:20200312T200000Z
GEO:+40.633903;+22.95648
LOCATION:Θεσσαλονίκη\, \nΣχολή Θετικών Επιστημών (ΣΘΕ) ΑΠΘ
SUMMARY:(ΑΚΥΡΩΝΕΤΑΙ) Hip Hop Bar για κάλυψη εξόδων μεταφοράς στον Βόλο
URL:https://thessaloniki.kinimatorama.net/event/117252
END:VEVENT
END:VCALENDAR
