BEGIN:VCALENDAR
VERSION:2.0
PRODID:-//demosphere.net//NONSGML kigkonsult.se iCalcreator 2.22.1//
METHOD:REQUEST
X-WR-TIMEZONE:Europe/Athens
BEGIN:VEVENT
UID:https://thessaloniki.kinimatorama.net/event/11778
DTSTAMP:20110707T170000Z
DESCRIPTION:περισσότερες πληροφορίες: https://thessaloniki.kinimatorama.net
 /event/11778 
DTSTART:20110707T170000Z
DTEND:20110707T180000Z
GEO:+38.006046;+23.82764
LOCATION:Αγ.Παρασκευή\, \nπλατεία Αγίου Ιωάννη (πάνω πλατεία) \nΕλβετίας & 
 Αγίου Ιωάννου
SUMMARY:Γλέντι -ρεφενέ οικ. ενίσχυσης των συλληφθέντων
URL:https://thessaloniki.kinimatorama.net/event/11778
END:VEVENT
END:VCALENDAR
