BEGIN:VCALENDAR
VERSION:2.0
PRODID:-//demosphere.net//NONSGML kigkonsult.se iCalcreator 2.22.1//
METHOD:REQUEST
X-WR-TIMEZONE:Europe/Athens
BEGIN:VEVENT
UID:https://thessaloniki.kinimatorama.net/event/117877
DTSTAMP:20200504T160000Z
DESCRIPTION:περισσότερες πληροφορίες: https://thessaloniki.kinimatorama.net
 /event/117877 
DTSTART:20200504T160000Z
DTEND:20200504T170000Z
GEO:+39.555039;+21.767766
LOCATION:Τρίκαλα\, \nΠλατεία Ρήγα Φεραίου
SUMMARY:Παρέμβαση διαμαρτυρίας για την άμεση απόσυρση του αντι-περιβαλλοντι
 κού νομοσχεδίου
URL:https://thessaloniki.kinimatorama.net/event/117877
END:VEVENT
END:VCALENDAR
