BEGIN:VCALENDAR
VERSION:2.0
PRODID:-//demosphere.net//NONSGML kigkonsult.se iCalcreator 2.22.1//
METHOD:REQUEST
X-WR-TIMEZONE:Europe/Athens
BEGIN:VEVENT
UID:https://thessaloniki.kinimatorama.net/event/118518
DTSTAMP:20200604T160000Z
DESCRIPTION:περισσότερες πληροφορίες: https://thessaloniki.kinimatorama.net
 /event/118518 
DTSTART:20200604T160000Z
DTEND:20200604T170000Z
GEO:+37.994854;+23.740732
LOCATION:Αθήνα\, \nΠλατεία Πρωτομαγιάς \nΠεδίον του Άρεως
SUMMARY:(εξ αναβολής) Συνέλευση για τη διοργάνωση πορείας αλληλεγγύης
URL:https://thessaloniki.kinimatorama.net/event/118518
END:VEVENT
END:VCALENDAR
