BEGIN:VCALENDAR
VERSION:2.0
PRODID:-//demosphere.net//NONSGML kigkonsult.se iCalcreator 2.22.1//
METHOD:REQUEST
X-WR-TIMEZONE:Europe/Athens
BEGIN:VEVENT
UID:https://thessaloniki.kinimatorama.net/event/118565
DTSTAMP:20200627T150000Z
DESCRIPTION:περισσότερες πληροφορίες: https://thessaloniki.kinimatorama.net
 /event/118565 
DTSTART:20200627T150000Z
DTEND:20200627T160000Z
GEO:+37.994854;+23.740732
LOCATION:Αθήνα\, \nΠλατεία Πρωτομαγιάς \nΠεδίον του Άρεως
SUMMARY:Spreading Solidarity\, Contaminate the Power
URL:https://thessaloniki.kinimatorama.net/event/118565
END:VEVENT
END:VCALENDAR
