BEGIN:VCALENDAR
VERSION:2.0
PRODID:-//demosphere.net//NONSGML kigkonsult.se iCalcreator 2.22.1//
METHOD:REQUEST
X-WR-TIMEZONE:Europe/Athens
BEGIN:VEVENT
UID:https://thessaloniki.kinimatorama.net/event/118607
DTSTAMP:20200605T170000Z
DESCRIPTION:περισσότερες πληροφορίες: https://thessaloniki.kinimatorama.net
 /event/118607 
DTSTART:20200605T170000Z
DTEND:20200605T180000Z
GEO:+39.555039;+21.767766
LOCATION:Τρίκαλα\, \nΠλατεία Ρήγα Φεραίου
SUMMARY:Συγκέντρωση για την Παγκόσμια Ημέρα Περιβάλλοντος
URL:https://thessaloniki.kinimatorama.net/event/118607
END:VEVENT
END:VCALENDAR
