BEGIN:VCALENDAR
VERSION:2.0
PRODID:-//demosphere.net//NONSGML kigkonsult.se iCalcreator 2.22.1//
METHOD:REQUEST
X-WR-TIMEZONE:Europe/Athens
BEGIN:VEVENT
UID:https://thessaloniki.kinimatorama.net/event/119211
DTSTAMP:20200621T170000Z
DESCRIPTION:περισσότερες πληροφορίες: https://thessaloniki.kinimatorama.net
 /event/119211 
DTSTART:20200621T170000Z
DTEND:20200621T180000Z
GEO:+37.904202;+23.751378
LOCATION:Αργυρούπολη\, \nΥπόστεγο \n(Αυτοδιαχειριζόμενο Στέκι Αργυρούπολης)
  \n25ης Μαρτίου 38 \n(πλησίον σταθμού Μετρό ΑΡΓΥΡΟΥΠΟΛΗ)
SUMMARY:Αυτοδιαχειριζόμενο καφενείο στον κήπο του στεκιού
URL:https://thessaloniki.kinimatorama.net/event/119211
END:VEVENT
END:VCALENDAR
