BEGIN:VCALENDAR
VERSION:2.0
PRODID:-//demosphere.net//NONSGML kigkonsult.se iCalcreator 2.22.1//
METHOD:REQUEST
X-WR-TIMEZONE:Europe/Athens
BEGIN:VEVENT
UID:https://thessaloniki.kinimatorama.net/event/119816
DTSTAMP:20200713T063000Z
DESCRIPTION:περισσότερες πληροφορίες: https://thessaloniki.kinimatorama.net
 /event/119816 
DTSTART:20200713T063000Z
DTEND:20200713T073000Z
GEO:+37.995376;+23.743086
LOCATION:Αθήνα\, \nΔικαστήρια Ευελπίδων
SUMMARY:[Αθήνα] Συγκέντρωση αλληλεγγύης στους συλληφθέντες της 9/7
URL:https://thessaloniki.kinimatorama.net/event/119816
END:VEVENT
END:VCALENDAR
