BEGIN:VCALENDAR
VERSION:2.0
PRODID:-//demosphere.net//NONSGML kigkonsult.se iCalcreator 2.22.1//
METHOD:REQUEST
X-WR-TIMEZONE:Europe/Athens
BEGIN:VEVENT
UID:https://thessaloniki.kinimatorama.net/event/120320
DTSTAMP:20200824T090000Z
DESCRIPTION:περισσότερες πληροφορίες: https://thessaloniki.kinimatorama.net
 /event/120320 
DTSTART:20200824T090000Z
DTEND:20200824T100000Z
GEO:+37.995376;+23.743086
LOCATION:Αθήνα\, \nΔικαστήρια Ευελπίδων
SUMMARY:[Αθήνα] Συγκέντρωση αλληλεγγύης στο φίλο και ακτιβιστή του ΛΟΑΤΚΙ+ 
 κινήματος Ηλία Γ.
URL:https://thessaloniki.kinimatorama.net/event/120320
END:VEVENT
END:VCALENDAR
