BEGIN:VCALENDAR
VERSION:2.0
PRODID:-//demosphere.net//NONSGML kigkonsult.se iCalcreator 2.22.1//
METHOD:REQUEST
X-WR-TIMEZONE:Europe/Athens
BEGIN:VEVENT
UID:https://thessaloniki.kinimatorama.net/event/120782
DTSTAMP:20200916T070000Z
DESCRIPTION:περισσότερες πληροφορίες: https://thessaloniki.kinimatorama.net
 /event/120782 
DTSTART:20200916T070000Z
DTEND:20200916T080000Z
GEO:+40.639326;+22.932823
LOCATION:Θεσσαλονίκη\, \nΔικαστήρια Θεσσαλονίκης
SUMMARY:Δίκη καθηγητή γυναικολογίας για σεξουαλικές παρενοχλήσεις σε φοιτήτ
 ριες
URL:https://thessaloniki.kinimatorama.net/event/120782
END:VEVENT
END:VCALENDAR
