BEGIN:VCALENDAR
VERSION:2.0
PRODID:-//demosphere.net//NONSGML kigkonsult.se iCalcreator 2.22.1//
METHOD:REQUEST
X-WR-TIMEZONE:Europe/Athens
BEGIN:VEVENT
UID:https://thessaloniki.kinimatorama.net/event/120898
DTSTAMP:20200918T163000Z
DESCRIPTION:περισσότερες πληροφορίες: https://thessaloniki.kinimatorama.net
 /event/120898 
DTSTART:20200918T163000Z
DTEND:20200918T173000Z
GEO:+39.555039;+21.767766
LOCATION:Τρίκαλα\, \nΠλατεία Ρήγα Φεραίου
SUMMARY:Συγκεντρωση: ο Παυλος Φυσσας ζει\, οι ναζι στη φυλακη
URL:https://thessaloniki.kinimatorama.net/event/120898
END:VEVENT
END:VCALENDAR
