BEGIN:VCALENDAR
VERSION:2.0
PRODID:-//demosphere.net//NONSGML kigkonsult.se iCalcreator 2.22.1//
METHOD:REQUEST
X-WR-TIMEZONE:Europe/Athens
BEGIN:VEVENT
UID:https://thessaloniki.kinimatorama.net/event/121014
DTSTAMP:20200922T090000Z
DESCRIPTION:περισσότερες πληροφορίες: https://thessaloniki.kinimatorama.net
 /event/121014 
DTSTART:20200922T090000Z
DTEND:20200922T100000Z
GEO:+37.995376;+23.743086
LOCATION:Αθήνα\, \nΔικαστήρια Ευελπίδων
SUMMARY:Συγκέντρωση αλληλεγγύης στους συλληφθέντες της πλατείας Βικτωρίας
URL:https://thessaloniki.kinimatorama.net/event/121014
END:VEVENT
END:VCALENDAR
