BEGIN:VCALENDAR
VERSION:2.0
PRODID:-//demosphere.net//NONSGML kigkonsult.se iCalcreator 2.22.1//
METHOD:REQUEST
X-WR-TIMEZONE:Europe/Athens
BEGIN:VEVENT
UID:https://thessaloniki.kinimatorama.net/event/121153
DTSTAMP:20200926T150000Z
DESCRIPTION:περισσότερες πληροφορίες: https://thessaloniki.kinimatorama.net
 /event/121153 
DTSTART:20200926T150000Z
DTEND:20200926T160000Z
GEO:+37.968612;+23.746455
LOCATION:Αθήνα\, \nΆλσος Παγκρατίου \nΣπ.Μερκούρη & Ευτυχίδου \n(Τρόλεϊ 2\,
 11 - Λεωφορεία 203\,204\,204B\,211 \nστάση ΑΛΣΟΣ)
SUMMARY:Ανοιχτή συζήτηση-ενημέρωση για την υπεράσπιση των καταλήψεων & των 
 αγώνων μας
URL:https://thessaloniki.kinimatorama.net/event/121153
END:VEVENT
END:VCALENDAR
