BEGIN:VCALENDAR
VERSION:2.0
PRODID:-//demosphere.net//NONSGML kigkonsult.se iCalcreator 2.22.1//
METHOD:REQUEST
X-WR-TIMEZONE:Europe/Athens
BEGIN:VEVENT
UID:https://thessaloniki.kinimatorama.net/event/121170
DTSTAMP:20200927T150000Z
DESCRIPTION:περισσότερες πληροφορίες: https://thessaloniki.kinimatorama.net
 /event/121170 
DTSTART:20200927T150000Z
DTEND:20200927T160000Z
GEO:+37.904202;+23.751378
LOCATION:Αργυρούπολη\, \nΥπόστεγο \n(Αυτοδιαχειριζόμενο Στέκι Αργυρούπολης)
  \n25ης Μαρτίου 38 \n(πλησίον σταθμού Μετρό ΑΡΓΥΡΟΥΠΟΛΗ)
SUMMARY:Συλλογή τροφίμων για τους πληγέντες & τα διασωθέντα ζώα της Καρδίτσ
 ας
URL:https://thessaloniki.kinimatorama.net/event/121170
END:VEVENT
END:VCALENDAR
