BEGIN:VCALENDAR
VERSION:2.0
PRODID:-//demosphere.net//NONSGML kigkonsult.se iCalcreator 2.22.1//
METHOD:REQUEST
X-WR-TIMEZONE:Europe/Athens
BEGIN:VEVENT
UID:https://thessaloniki.kinimatorama.net/event/121367
DTSTAMP:20201004T160000Z
DESCRIPTION:περισσότερες πληροφορίες: https://thessaloniki.kinimatorama.net
 /event/121367 
DTSTART:20201004T160000Z
DTEND:20201004T170000Z
GEO:+37.994854;+23.740732
LOCATION:Αθήνα\, \nΠλατεία Πρωτομαγιάς \nΠεδίον του Άρεως
SUMMARY:Συνέλευση Ταμείου αλληλεγγύης φυλακισμένων και διωκόμενων αγωνιστών
URL:https://thessaloniki.kinimatorama.net/event/121367
END:VEVENT
END:VCALENDAR
