BEGIN:VCALENDAR
VERSION:2.0
PRODID:-//demosphere.net//NONSGML kigkonsult.se iCalcreator 2.22.1//
METHOD:REQUEST
X-WR-TIMEZONE:Europe/Athens
BEGIN:VEVENT
UID:https://thessaloniki.kinimatorama.net/event/121382
DTSTAMP:20201006T163000Z
DESCRIPTION:περισσότερες πληροφορίες: https://thessaloniki.kinimatorama.net
 /event/121382 
DTSTART:20201006T163000Z
DTEND:20201006T173000Z
GEO:+39.555039;+21.767766
LOCATION:Τρίκαλα\, \nΠλατεία Ρήγα Φεραίου
SUMMARY:Συγκέντρωση: Εγκληματική οργάνωση η Χ.Α.
URL:https://thessaloniki.kinimatorama.net/event/121382
END:VEVENT
END:VCALENDAR
