BEGIN:VCALENDAR
VERSION:2.0
PRODID:-//demosphere.net//NONSGML kigkonsult.se iCalcreator 2.22.1//
METHOD:REQUEST
X-WR-TIMEZONE:Europe/Athens
BEGIN:VEVENT
UID:https://thessaloniki.kinimatorama.net/event/12150
DTSTAMP:20110801T090000Z
DESCRIPTION:περισσότερες πληροφορίες: https://thessaloniki.kinimatorama.net
 /event/12150 
DTSTART:20110801T090000Z
DTEND:20110801T100000Z
GEO:+37.995376;+23.743086
LOCATION:Αθήνα\, \nΔικαστήρια Ευελπίδων
SUMMARY:Δίκη συλληφθέντων εκκένωσης πλατείας Συντάγματος
URL:https://thessaloniki.kinimatorama.net/event/12150
END:VEVENT
END:VCALENDAR
