BEGIN:VCALENDAR
VERSION:2.0
PRODID:-//demosphere.net//NONSGML kigkonsult.se iCalcreator 2.22.1//
METHOD:REQUEST
X-WR-TIMEZONE:Europe/Athens
BEGIN:VEVENT
UID:https://thessaloniki.kinimatorama.net/event/122029
DTSTAMP:20201104T073000Z
DESCRIPTION:περισσότερες πληροφορίες: https://thessaloniki.kinimatorama.net
 /event/122029 
DTSTART:20201104T073000Z
DTEND:20201104T083000Z
GEO:+37.995376;+23.743086
LOCATION:Αθήνα\, \nΔικαστήρια Ευελπίδων
SUMMARY:Συγκέντρωση αλληλεγγύης για την υπόθεση 'Σύντροφοι-Συντρόφισσες'
URL:https://thessaloniki.kinimatorama.net/event/122029
END:VEVENT
END:VCALENDAR
