BEGIN:VCALENDAR
VERSION:2.0
PRODID:-//demosphere.net//NONSGML kigkonsult.se iCalcreator 2.22.1//
METHOD:REQUEST
X-WR-TIMEZONE:Europe/Athens
BEGIN:VEVENT
UID:https://thessaloniki.kinimatorama.net/event/123002
DTSTAMP:20210210T070000Z
DESCRIPTION:περισσότερες πληροφορίες: https://thessaloniki.kinimatorama.net
 /event/123002 
DTSTART:20210210T070000Z
DTEND:20210210T080000Z
GEO:+37.995376;+23.743086
LOCATION:Αθήνα\, \nΔικαστήρια Ευελπίδων
SUMMARY:Δίκη συντρόφου για ‘’Προμήθεια και κατοχή εκρηκτικών υλών’’
URL:https://thessaloniki.kinimatorama.net/event/123002
END:VEVENT
END:VCALENDAR
