BEGIN:VCALENDAR
VERSION:2.0
PRODID:-//demosphere.net//NONSGML kigkonsult.se iCalcreator 2.22.1//
METHOD:REQUEST
X-WR-TIMEZONE:Europe/Athens
BEGIN:VEVENT
UID:https://thessaloniki.kinimatorama.net/event/123015
DTSTAMP:20210125T130000Z
DESCRIPTION:περισσότερες πληροφορίες: https://thessaloniki.kinimatorama.net
 /event/123015 
DTSTART:20210125T130000Z
DTEND:20210125T140000Z
GEO:+40.62957;+22.964948
LOCATION:Θεσσαλονίκη\, \nΑ' φοιτητική εστία ΑΠΘ \nοδός Στίλπωνος Κυριακίδη 
 \n(πάνω από το Ιβανώφειο) \nλεωφορεία 17\,37: στάση Καυτατζόγλειο \nλεωφορ
 εία 15\,16: στάση Εστίες
SUMMARY:Ανοιχτή Αντικατασταλτική\, Αντικρατική Συνέλευση
URL:https://thessaloniki.kinimatorama.net/event/123015
END:VEVENT
END:VCALENDAR
