BEGIN:VCALENDAR
VERSION:2.0
PRODID:-//demosphere.net//NONSGML kigkonsult.se iCalcreator 2.22.1//
METHOD:REQUEST
X-WR-TIMEZONE:Europe/Athens
BEGIN:VEVENT
UID:https://thessaloniki.kinimatorama.net/event/123252
DTSTAMP:20210208T140000Z
DESCRIPTION:περισσότερες πληροφορίες: https://thessaloniki.kinimatorama.net
 /event/123252 
DTSTART:20210208T140000Z
DTEND:20210208T150000Z
GEO:+40.633903;+22.95648
LOCATION:Θεσσαλονίκη\, \nΣχολή Θετικών Επιστημών (ΣΘΕ) ΑΠΘ
SUMMARY:(αλλαγή ώρας) Συζήτηση για το νομοσχέδιο Κεραμέως
URL:https://thessaloniki.kinimatorama.net/event/123252
END:VEVENT
END:VCALENDAR
