BEGIN:VCALENDAR
VERSION:2.0
PRODID:-//demosphere.net//NONSGML kigkonsult.se iCalcreator 2.22.1//
METHOD:REQUEST
X-WR-TIMEZONE:Europe/Athens
BEGIN:VEVENT
UID:https://thessaloniki.kinimatorama.net/event/123473
DTSTAMP:20210227T110000Z
DESCRIPTION:περισσότερες πληροφορίες: https://thessaloniki.kinimatorama.net
 /event/123473 
DTSTART:20210227T110000Z
DTEND:20210227T120000Z
GEO:+40.633903;+22.95648
LOCATION:Θεσσαλονίκη\, \nΣχολή Θετικών Επιστημών (ΣΘΕ) ΑΠΘ
SUMMARY:(Αναβολή) Ανοιχτή συνέλευση ενάντια στον εκβιασμό των προστίμων
URL:https://thessaloniki.kinimatorama.net/event/123473
END:VEVENT
END:VCALENDAR
