BEGIN:VCALENDAR
VERSION:2.0
PRODID:-//demosphere.net//NONSGML kigkonsult.se iCalcreator 2.22.1//
METHOD:REQUEST
X-WR-TIMEZONE:Europe/Athens
BEGIN:VEVENT
UID:https://thessaloniki.kinimatorama.net/event/124137
DTSTAMP:20210313T080000Z
DESCRIPTION:περισσότερες πληροφορίες: https://thessaloniki.kinimatorama.net
 /event/124137 
DTSTART:20210313T080000Z
DTEND:20210313T090000Z
GEO:+37.995376;+23.743086
LOCATION:Αθήνα\, \nΔικαστήρια Ευελπίδων
SUMMARY:[Αθήνα] Συγκέντρωση αλληλεγγύης για τους συλληφθέντες & τις συλληφθ
 είσες της Ν.Σμύρνης
URL:https://thessaloniki.kinimatorama.net/event/124137
END:VEVENT
END:VCALENDAR
