BEGIN:VCALENDAR
VERSION:2.0
PRODID:-//demosphere.net//NONSGML kigkonsult.se iCalcreator 2.22.1//
METHOD:REQUEST
X-WR-TIMEZONE:Europe/Athens
BEGIN:VEVENT
UID:https://thessaloniki.kinimatorama.net/event/124159
DTSTAMP:20210313T100000Z
DESCRIPTION:περισσότερες πληροφορίες: https://thessaloniki.kinimatorama.net
 /event/124159 
DTSTART:20210313T100000Z
DTEND:20210313T110000Z
GEO:+39.555039;+21.767766
LOCATION:Τρίκαλα\, \nΠλατεία Ρήγα Φεραίου
SUMMARY:Συγκέντρωση ενάντια στον κρατικό αυταρχισμό και την καταστολή
URL:https://thessaloniki.kinimatorama.net/event/124159
END:VEVENT
END:VCALENDAR
