BEGIN:VCALENDAR
VERSION:2.0
PRODID:-//demosphere.net//NONSGML kigkonsult.se iCalcreator 2.22.1//
METHOD:REQUEST
X-WR-TIMEZONE:Europe/Athens
BEGIN:VEVENT
UID:https://thessaloniki.kinimatorama.net/event/124169
DTSTAMP:20210313T120000Z
DESCRIPTION:περισσότερες πληροφορίες: https://thessaloniki.kinimatorama.net
 /event/124169 
DTSTART:20210313T120000Z
DTEND:20210313T130000Z
GEO:+40.633903;+22.95648
LOCATION:Θεσσαλονίκη\, \nΣχολή Θετικών Επιστημών (ΣΘΕ) ΑΠΘ
SUMMARY:Βιωματικό εργαστήριο έκφρασης\, επικοινωνίας και παιχνιδιού
URL:https://thessaloniki.kinimatorama.net/event/124169
END:VEVENT
END:VCALENDAR
