BEGIN:VCALENDAR
VERSION:2.0
PRODID:-//demosphere.net//NONSGML kigkonsult.se iCalcreator 2.22.1//
METHOD:REQUEST
X-WR-TIMEZONE:Europe/Athens
BEGIN:VEVENT
UID:https://thessaloniki.kinimatorama.net/event/124424
DTSTAMP:20210321T110000Z
DESCRIPTION:περισσότερες πληροφορίες: https://thessaloniki.kinimatorama.net
 /event/124424 
DTSTART:20210321T110000Z
DTEND:20210321T120000Z
GEO:+40.633903;+22.95648
LOCATION:Θεσσαλονίκη\, \nΣχολή Θετικών Επιστημών (ΣΘΕ) ΑΠΘ
SUMMARY:Πλεονάζοντες πληθυσμοί του περιθωρίου & ο ρόλος τους στη σύγχρονη κ
 οινωνία
URL:https://thessaloniki.kinimatorama.net/event/124424
END:VEVENT
END:VCALENDAR
