BEGIN:VCALENDAR
VERSION:2.0
PRODID:-//demosphere.net//NONSGML kigkonsult.se iCalcreator 2.22.1//
METHOD:REQUEST
X-WR-TIMEZONE:Europe/Athens
BEGIN:VEVENT
UID:https://thessaloniki.kinimatorama.net/event/124580
DTSTAMP:20210326T150000Z
DESCRIPTION:περισσότερες πληροφορίες: https://thessaloniki.kinimatorama.net
 /event/124580 
DTSTART:20210326T150000Z
DTEND:20210326T160000Z
GEO:+40.633903;+22.95648
LOCATION:Θεσσαλονίκη\, \nΣχολή Θετικών Επιστημών (ΣΘΕ) ΑΠΘ
SUMMARY:Αυτομόρφωση-συζήτηση κριτικής στη βιοτεχνολογία & τεχνοεπιστήμη της
  κυριαρχίας
URL:https://thessaloniki.kinimatorama.net/event/124580
END:VEVENT
END:VCALENDAR
