BEGIN:VCALENDAR
VERSION:2.0
PRODID:-//demosphere.net//NONSGML kigkonsult.se iCalcreator 2.22.1//
METHOD:REQUEST
X-WR-TIMEZONE:Europe/Athens
BEGIN:VEVENT
UID:https://thessaloniki.kinimatorama.net/event/124759
DTSTAMP:20210329T140000Z
DESCRIPTION:περισσότερες πληροφορίες: https://thessaloniki.kinimatorama.net
 /event/124759 
DTSTART:20210329T140000Z
DTEND:20210329T150000Z
GEO:+40.633903;+22.95648
LOCATION:Θεσσαλονίκη\, \nΣχολή Θετικών Επιστημών (ΣΘΕ) ΑΠΘ
SUMMARY:Συζήτηση 'Τι παίζει στο Φυσικό δύο μήνες τώρα'-ΣΦ Φυσικού
URL:https://thessaloniki.kinimatorama.net/event/124759
END:VEVENT
END:VCALENDAR
