BEGIN:VCALENDAR
VERSION:2.0
PRODID:-//demosphere.net//NONSGML kigkonsult.se iCalcreator 2.22.1//
METHOD:REQUEST
X-WR-TIMEZONE:Europe/Athens
BEGIN:VEVENT
UID:https://thessaloniki.kinimatorama.net/event/124766
DTSTAMP:20210402T100000Z
DESCRIPTION:περισσότερες πληροφορίες: https://thessaloniki.kinimatorama.net
 /event/124766 
DTSTART:20210402T100000Z
DTEND:20210402T110000Z
GEO:+40.633903;+22.95648
LOCATION:Θεσσαλονίκη\, \nΣχολή Θετικών Επιστημών (ΣΘΕ) ΑΠΘ
SUMMARY:Συζήτηση για την διαθεματικότητα (έμφυλο\, τρανσοφοβία) - ΣΦ Γεωλογ
 ίας
URL:https://thessaloniki.kinimatorama.net/event/124766
END:VEVENT
END:VCALENDAR
