BEGIN:VCALENDAR
VERSION:2.0
PRODID:-//demosphere.net//NONSGML kigkonsult.se iCalcreator 2.22.1//
METHOD:REQUEST
X-WR-TIMEZONE:Europe/Athens
BEGIN:VEVENT
UID:https://thessaloniki.kinimatorama.net/event/12478
DTSTAMP:20110906T100000Z
DESCRIPTION:περισσότερες πληροφορίες: https://thessaloniki.kinimatorama.net
 /event/12478 
DTSTART:20110906T100000Z
DTEND:20110906T110000Z
GEO:+37.994079;+23.732083
LOCATION:Αθήνα\, \nΑΣΟΕΕ \nΠατησίων 76 (28ης Οκτωβρίου) \n(πλησίον σταθμού 
 ΗΣΑΠ Βικτώρια)
SUMMARY:Πρόγραμμα Κατάληψης ΑΣΟΕΕ
URL:https://thessaloniki.kinimatorama.net/event/12478
END:VEVENT
END:VCALENDAR
