BEGIN:VCALENDAR
VERSION:2.0
PRODID:-//demosphere.net//NONSGML kigkonsult.se iCalcreator 2.22.1//
METHOD:REQUEST
X-WR-TIMEZONE:Europe/Athens
BEGIN:VEVENT
UID:https://thessaloniki.kinimatorama.net/event/124824
DTSTAMP:20210403T110000Z
DESCRIPTION:περισσότερες πληροφορίες: https://thessaloniki.kinimatorama.net
 /event/124824 
DTSTART:20210403T110000Z
DTEND:20210403T120000Z
GEO:+40.633903;+22.95648
LOCATION:Θεσσαλονίκη\, \nΣχολή Θετικών Επιστημών (ΣΘΕ) ΑΠΘ
SUMMARY:Κάλεσμα για συνδιαμόρφωση Ανοιχτού Πλαισίου ΣΦ Γεωπονίας
URL:https://thessaloniki.kinimatorama.net/event/124824
END:VEVENT
END:VCALENDAR
