BEGIN:VCALENDAR
VERSION:2.0
PRODID:-//demosphere.net//NONSGML kigkonsult.se iCalcreator 2.22.1//
METHOD:REQUEST
X-WR-TIMEZONE:Europe/Athens
BEGIN:VEVENT
UID:https://thessaloniki.kinimatorama.net/event/124834
DTSTAMP:20210403T110000Z
DESCRIPTION:περισσότερες πληροφορίες: https://thessaloniki.kinimatorama.net
 /event/124834 
DTSTART:20210403T110000Z
DTEND:20210403T120000Z
GEO:+40.633903;+22.95648
LOCATION:Θεσσαλονίκη\, \nΣχολή Θετικών Επιστημών (ΣΘΕ) ΑΠΘ
SUMMARY:Εκδήλωση: Η ανάδυση του κατασκοπευτικού καπιταλισμού & οι αντιστάσε
 ις εντός του
URL:https://thessaloniki.kinimatorama.net/event/124834
END:VEVENT
END:VCALENDAR
