BEGIN:VCALENDAR
VERSION:2.0
PRODID:-//demosphere.net//NONSGML kigkonsult.se iCalcreator 2.22.1//
METHOD:REQUEST
X-WR-TIMEZONE:Europe/Athens
BEGIN:VEVENT
UID:https://thessaloniki.kinimatorama.net/event/125098
DTSTAMP:20210409T140000Z
DESCRIPTION:περισσότερες πληροφορίες: https://thessaloniki.kinimatorama.net
 /event/125098 
DTSTART:20210409T140000Z
DTEND:20210409T150000Z
GEO:+40.633903;+22.95648
LOCATION:Θεσσαλονίκη\, \nΣχολή Θετικών Επιστημών (ΣΘΕ) ΑΠΘ
SUMMARY:(Αναβολή) Εκδήλωση 'Περί έρευνας και άλλων δαιμονίων' - ΣΦ Φυσικού
URL:https://thessaloniki.kinimatorama.net/event/125098
END:VEVENT
END:VCALENDAR
