BEGIN:VCALENDAR
VERSION:2.0
PRODID:-//demosphere.net//NONSGML kigkonsult.se iCalcreator 2.22.1//
METHOD:REQUEST
X-WR-TIMEZONE:Europe/Athens
BEGIN:VEVENT
UID:https://thessaloniki.kinimatorama.net/event/125100
DTSTAMP:20210411T130000Z
DESCRIPTION:περισσότερες πληροφορίες: https://thessaloniki.kinimatorama.net
 /event/125100 
DTSTART:20210411T130000Z
DTEND:20210411T140000Z
GEO:+40.633903;+22.95648
LOCATION:Θεσσαλονίκη\, \nΣχολή Θετικών Επιστημών (ΣΘΕ) ΑΠΘ
SUMMARY:Εκδήλωση για τον νόμο Κεραμέως - Χρυσοχοΐδη μαζί με μαθητές
URL:https://thessaloniki.kinimatorama.net/event/125100
END:VEVENT
END:VCALENDAR
