BEGIN:VCALENDAR
VERSION:2.0
PRODID:-//demosphere.net//NONSGML kigkonsult.se iCalcreator 2.22.1//
METHOD:REQUEST
X-WR-TIMEZONE:Europe/Athens
BEGIN:VEVENT
UID:https://thessaloniki.kinimatorama.net/event/125260
DTSTAMP:20210410T110000Z
DESCRIPTION:περισσότερες πληροφορίες: https://thessaloniki.kinimatorama.net
 /event/125260 
DTSTART:20210410T110000Z
DTEND:20210410T120000Z
GEO:+40.633903;+22.95648
LOCATION:Θεσσαλονίκη\, \nΣχολή Θετικών Επιστημών (ΣΘΕ) ΑΠΘ
SUMMARY:Βιωματικό εργαστήριο έκφρασης\, επικοινωνίας και παιχνιδιού NDI & σ
 τοιχεια ΘτΚ
URL:https://thessaloniki.kinimatorama.net/event/125260
END:VEVENT
END:VCALENDAR
