BEGIN:VCALENDAR
VERSION:2.0
PRODID:-//demosphere.net//NONSGML kigkonsult.se iCalcreator 2.22.1//
METHOD:REQUEST
X-WR-TIMEZONE:Europe/Athens
BEGIN:VEVENT
UID:https://thessaloniki.kinimatorama.net/event/125378
DTSTAMP:20210411T120000Z
DESCRIPTION:περισσότερες πληροφορίες: https://thessaloniki.kinimatorama.net
 /event/125378 
DTSTART:20210411T120000Z
DTEND:20210411T130000Z
GEO:+40.633903;+22.95648
LOCATION:Θεσσαλονίκη\, \nΣχολή Θετικών Επιστημών (ΣΘΕ) ΑΠΘ
SUMMARY:Εκδήλωση φοιτητικών συλλόγων με μαθητ(ρι)ες σχετικά με το νόμο
URL:https://thessaloniki.kinimatorama.net/event/125378
END:VEVENT
END:VCALENDAR
