BEGIN:VCALENDAR
VERSION:2.0
PRODID:-//demosphere.net//NONSGML kigkonsult.se iCalcreator 2.22.1//
METHOD:REQUEST
X-WR-TIMEZONE:Europe/Athens
BEGIN:VEVENT
UID:https://thessaloniki.kinimatorama.net/event/125394
DTSTAMP:20210415T050000Z
DESCRIPTION:περισσότερες πληροφορίες: https://thessaloniki.kinimatorama.net
 /event/125394 
DTSTART:20210415T050000Z
DTEND:20210415T060000Z
GEO:+40.633903;+22.95648
LOCATION:Θεσσαλονίκη\, \nΣχολή Θετικών Επιστημών (ΣΘΕ) ΑΠΘ
SUMMARY:Περιφρούρηση της κατάληψης - ΣΦ Φυσικού
URL:https://thessaloniki.kinimatorama.net/event/125394
END:VEVENT
END:VCALENDAR
