BEGIN:VCALENDAR
VERSION:2.0
PRODID:-//demosphere.net//NONSGML kigkonsult.se iCalcreator 2.22.1//
METHOD:REQUEST
X-WR-TIMEZONE:Europe/Athens
BEGIN:VEVENT
UID:https://thessaloniki.kinimatorama.net/event/125395
DTSTAMP:20210415T080000Z
DESCRIPTION:περισσότερες πληροφορίες: https://thessaloniki.kinimatorama.net
 /event/125395 
DTSTART:20210415T080000Z
DTEND:20210415T090000Z
GEO:+40.633903;+22.95648
LOCATION:Θεσσαλονίκη\, \nΣχολή Θετικών Επιστημών (ΣΘΕ) ΑΠΘ
SUMMARY:Προσυγκέντρωση Πανεκπαιδευτικής Πορείας - ΣΦ Φυσικού
URL:https://thessaloniki.kinimatorama.net/event/125395
END:VEVENT
END:VCALENDAR
