BEGIN:VCALENDAR
VERSION:2.0
PRODID:-//demosphere.net//NONSGML kigkonsult.se iCalcreator 2.22.1//
METHOD:REQUEST
X-WR-TIMEZONE:Europe/Athens
BEGIN:VEVENT
UID:https://thessaloniki.kinimatorama.net/event/125520
DTSTAMP:20210414T090000Z
DESCRIPTION:περισσότερες πληροφορίες: https://thessaloniki.kinimatorama.net
 /event/125520 
DTSTART:20210414T090000Z
DTEND:20210414T100000Z
GEO:+40.628307;+22.958597
LOCATION:Θεσσαλονίκη\, \nΑίθριο Πολυτεχνείου ΑΠΘ
SUMMARY:Συζήτηση για το έμφυλο και για σεξιστικές συμπεριφορές καθηγητών & 
 καφενείο
URL:https://thessaloniki.kinimatorama.net/event/125520
END:VEVENT
END:VCALENDAR
