BEGIN:VCALENDAR
VERSION:2.0
PRODID:-//demosphere.net//NONSGML kigkonsult.se iCalcreator 2.22.1//
METHOD:REQUEST
X-WR-TIMEZONE:Europe/Athens
BEGIN:VEVENT
UID:https://thessaloniki.kinimatorama.net/event/125641
DTSTAMP:20210418T090000Z
DESCRIPTION:περισσότερες πληροφορίες: https://thessaloniki.kinimatorama.net
 /event/125641 
DTSTART:20210418T090000Z
DTEND:20210418T100000Z
GEO:+39.555039;+21.767766
LOCATION:Τρίκαλα\, \nΠλατεία Ρήγα Φεραίου
SUMMARY:Αντιπολεμική Αντιιμπεριαλιστική Ημέρα Δράσης
URL:https://thessaloniki.kinimatorama.net/event/125641
END:VEVENT
END:VCALENDAR
