BEGIN:VCALENDAR
VERSION:2.0
PRODID:-//demosphere.net//NONSGML kigkonsult.se iCalcreator 2.22.1//
METHOD:REQUEST
X-WR-TIMEZONE:Europe/Athens
BEGIN:VEVENT
UID:https://thessaloniki.kinimatorama.net/event/125661
DTSTAMP:20210417T110000Z
DESCRIPTION:περισσότερες πληροφορίες: https://thessaloniki.kinimatorama.net
 /event/125661 
DTSTART:20210417T110000Z
DTEND:20210417T120000Z
GEO:+40.632845;+22.955744
LOCATION:Θεσσαλονίκη\, \nΠλατεία Χημείου \nΑΠΘ
SUMMARY:Βίγκαν κουζίνα και παζάρι ρούχων
URL:https://thessaloniki.kinimatorama.net/event/125661
END:VEVENT
END:VCALENDAR
